BEGIN:VCALENDAR
VERSION:2.0
PRODID:-//ChamberMaster//Event Calendar 2.0//EN
METHOD:PUBLISH
X-PUBLISHED-TTL:P3D
REFRESH-INTERVAL:P3D
CALSCALE:GREGORIAN
BEGIN:VEVENT
DTSTART:20220929T230000Z
DTEND:20220930T010000Z
X-MICROSOFT-CDO-ALLDAYEVENT:FALSE
SUMMARY:Young Professionals Mixer
DESCRIPTION:Calling ALL Young Professionals in the Chino Valley! You're invited to our monthly Mixer on Thursday\, September 29\, 2022 from 4-6 PM at Tailored Space.
X-ALT-DESC;FMTTYPE=text/html:Calling ALL Young Professionals in the Chino Valley! You&#39\;re invited to our monthly Mixer on Thursday\, September 29\, 2022 from 4-6 PM at Tailored Space.
LOCATION:Tailored Space 13925 City Center Drive\, Ste. 200 Chino Hills\, CA 91709
UID:e.1511.4287
SEQUENCE:3
DTSTAMP:20260423T113036Z
URL:https://business.chinovalleychamber.com/events/details/young-professionals-mixer-4287
END:VEVENT

END:VCALENDAR
