BEGIN:VCALENDAR
VERSION:2.0
PRODID:-//ChamberMaster//Event Calendar 2.0//EN
METHOD:PUBLISH
X-PUBLISHED-TTL:P3D
REFRESH-INTERVAL:P3D
CALSCALE:GREGORIAN
BEGIN:VEVENT
DTSTART:20140122T010000Z
DTEND:20140122T030000Z
X-MICROSOFT-CDO-ALLDAYEVENT:FALSE
SUMMARY:YOU ARE INVITED TO OUR OPEN HOUSE - Liberty Tax Service
DESCRIPTION:It's Tax Season - Get Excited!\n\n\n\nCome and meet the residents and business owners of Chino Hills!\n\nEnjoy getting to know our staff at our open house.\n\n\n\nBring a raffle prize to promote your business!\n\nOur staff will be available to answer your tax questions.\n\n\n\nLight Hors D'oeuvres served.
X-ALT-DESC;FMTTYPE=text/html:<br />\n<span style="color:#b22222\;"><span style="font-family:verdana\;"><span style="font-size:14px\;"><strong>It&#39\;s Tax Season - Get Excited!</strong></span></span></span><br />\n<br />\n<strong>Come and meet the residents and business owners of Chino Hills!<br />\nEnjoy getting to know our staff at our open house.</strong><br />\n<br />\n<span style="color:#b22222\;"><strong>Bring a raffle prize to promote your business!</strong></span><br />\n<strong>Our staff will be available to answer your tax questions.</strong><br />\n<br />\n<span style="color:#b22222\;"><strong>Light Hors D&#39\;oeuvres served.</strong></span>
LOCATION:Liberty Tax Service 3280 Chino Hills Pwy. #5 Chino Hills (Corner of Peyton Dr.\, at CVS Shopping Center)
UID:e.1511.510
SEQUENCE:3
DTSTAMP:20260421T170725Z
URL:https://business.chinovalleychamber.com/events/details/you-are-invited-to-our-open-house-liberty-tax-service-01-21-2014-510
END:VEVENT

END:VCALENDAR
