BEGIN:VCALENDAR
VERSION:2.0
PRODID:-//ChamberMaster//Event Calendar 2.0//EN
METHOD:PUBLISH
X-PUBLISHED-TTL:P3D
REFRESH-INTERVAL:P3D
CALSCALE:GREGORIAN
BEGIN:VEVENT
DTSTART:20130707T190000Z
DTEND:20130708T000000Z
X-MICROSOFT-CDO-ALLDAYEVENT:FALSE
SUMMARY:Wounded Wagon For A Warrior - Pizza Fundraiser
DESCRIPTION:Your Invited!\n\nCome Join Us Before the Demolition Derby & Support Wounded Warrior SPC. Marc Fernandez!\n\n12:00 PM - 2:00 PM - 93.1 Jack FM on Site!\n\nLive Music\, Games\, Car Photo Ops\, and Raffles for the Family
X-ALT-DESC;FMTTYPE=text/html:Your Invited!<br />\nCome Join Us Before the Demolition Derby &amp\; Support Wounded Warrior SPC. Marc Fernandez!<br />\n12:00 PM - 2:00 PM - 93.1 Jack FM on Site!<br />\nLive Music\, Games\, Car Photo Ops\, and Raffles for the Family
LOCATION:Mountain Mike's Pizza 7011 Schaefer Ave.\, Suite A\, Chino
UID:e.1511.365
SEQUENCE:3
DTSTAMP:20260422T024749Z
URL:https://business.chinovalleychamber.com/events/details/wounded-wagon-for-a-warrior-pizza-fundraiser-07-07-2013-365
END:VEVENT

END:VCALENDAR
