BEGIN:VCALENDAR
VERSION:2.0
PRODID:-//ChamberMaster//Event Calendar 2.0//EN
METHOD:PUBLISH
X-PUBLISHED-TTL:P3D
REFRESH-INTERVAL:P3D
CALSCALE:GREGORIAN
BEGIN:VEVENT
DTSTART:20130911T183000Z
DTEND:20130911T210000Z
X-MICROSOFT-CDO-ALLDAYEVENT:FALSE
SUMMARY:Worker's Compensation - Safety Concerns
DESCRIPTION:Worker's Compensation - Safety Concerns\, Presented by West Inland Empire Employer Advisory Council In Partnership with The Employment Development Department\n\n\n\nSpeaker: Ellen Flynn\, Department of Industrial Relations\n\n\n\nThe Presenter will Address: Workers' Compensation and Employer Information.\n\n* General information and posting requirements.\n\n* What to do after the employee gets injured on the job.\n\n* Medical treatment (MPN's\, UR/IMR).\n\n* Temporary and permanent disability benefits.\n\n* Supplemental job displacement benefits.\n\n\n\nEllen Flynn\, Associate Chief Judge for the Workers' Compensation Div.\, Ellen has been the presiding judge at the Anaheim District Office since 1991 and speaker of educational programs for the State Bar and Local Workers' Compensation Group.
X-ALT-DESC;FMTTYPE=text/html:<span style="color: rgb(0\, 128\, 128)\;"><strong>Worker&#39\;s Compensation - Safety Concerns\, </strong></span><strong>Presented by West Inland Empire Employer Advisory Council In Partnership with The Employment Development Department</strong><br />\n<br />\nSpeaker: Ellen Flynn\, Department of Industrial Relations<br />\n<br />\nThe Presenter will Address: Workers&#39\; Compensation and Employer Information.<br />\n* General information and posting requirements.<br />\n* What to do after the employee gets injured on the job.<br />\n* Medical treatment (MPN&#39\;s\, UR/IMR).<br />\n* Temporary and permanent disability benefits.<br />\n* Supplemental job displacement benefits.<br />\n<br />\nEllen Flynn\, Associate Chief Judge for the Workers&#39\; Compensation Div.\, Ellen has been the presiding judge at the Anaheim District Office since 1991 and speaker of educational programs for the State Bar and Local Workers&#39\; Compensation Group.
LOCATION:Radisson Hotel (formerly Ontario Marriott) 2200 East Holt Blvd.\, Ontario\, CA 91761
UID:e.1511.413
SEQUENCE:3
DTSTAMP:20260421T222956Z
URL:https://business.chinovalleychamber.com/events/details/worker-s-compensation-safety-concerns-09-11-2013-413
END:VEVENT

END:VCALENDAR
