BEGIN:VCALENDAR
VERSION:2.0
PRODID:-//ChamberMaster//Event Calendar 2.0//EN
METHOD:PUBLISH
X-PUBLISHED-TTL:P3D
REFRESH-INTERVAL:P3D
CALSCALE:GREGORIAN
BEGIN:VEVENT
DTSTART:20140125T183000Z
DTEND:20140125T203000Z
X-MICROSOFT-CDO-ALLDAYEVENT:FALSE
SUMMARY:Women's Self-Defense Workshop at On A Mission Korean Karate Center
DESCRIPTION:
X-ALT-DESC;FMTTYPE=text/html:
LOCATION:On A Mission Korean Karate Center 3560 Grand Ave. Suite D Chino Hills\, CA 91709
UID:e.1511.509
SEQUENCE:3
DTSTAMP:20260421T182623Z
URL:https://business.chinovalleychamber.com/events/details/women-s-self-defense-workshop-at-on-a-mission-korean-karate-center-01-25-2014-509
END:VEVENT

END:VCALENDAR
