BEGIN:VCALENDAR
VERSION:2.0
PRODID:-//ChamberMaster//Event Calendar 2.0//EN
METHOD:PUBLISH
X-PUBLISHED-TTL:P3D
REFRESH-INTERVAL:P3D
CALSCALE:GREGORIAN
BEGIN:VEVENT
DTSTART:20131018T020000Z
DTEND:20131018T030000Z
X-MICROSOFT-CDO-ALLDAYEVENT:FALSE
SUMMARY:Women's Health Seminar
DESCRIPTION:Chino Valley Medical Center - Women's Health Seminar\n\n\n\nThere will be opportunities to win door prizes\, visit several vendor booths\, and tours will be given of the hospital's mammogram and ultrasound department.\n\n\n\nGuest speakers:\n\nBreast Health\n\nMartha Osbourne\, RN\, BSN\, OCN\, CBPM-IC\n\nThe Robert and Beverly Lewis Family\, Cancer Care Center\n\n\n\nNutrition\n\nJennifer Doumit\, RD\n\nDirector\, Food and Nutrition\, Chino Valley Medical Center
X-ALT-DESC;FMTTYPE=text/html:<span style="font-size:14px\;"><span style="color:#800000\;"><strong><span style="font-family:tahoma\;">Chino Valley Medical Center - Women&#39\;s Health Seminar</span></strong></span></span><br />\n<br />\n<span style="font-size:14px\;"><span style="color:#000080\;"><strong>There will be opportunities to win door prizes\, visit several vendor booths\, and tours will be given of the hospital&#39\;s mammogram and ultrasound department.</strong></span></span><br />\n<br />\n<span style="font-size:14px\;"><span style="color:#800000\;"><strong>Guest speakers:<br />\nBreast Health<br />\nMartha Osbourne\, RN\, BSN\, OCN\, CBPM-IC<br />\nThe Robert and Beverly Lewis Family\,&nbsp\;Cancer Care Center</strong></span><br />\n<br />\n<span style="color:#8b4513\;"><strong>Nutrition<br />\nJennifer Doumit\, RD<br />\nDirector\, Food and Nutrition\,&nbsp\;Chino Valley Medical Center</strong></span></span>
LOCATION:Chino Valley Medical Center 5451 Walnut Avenue\, Chino
UID:e.1511.437
SEQUENCE:3
DTSTAMP:20260421T210705Z
URL:https://business.chinovalleychamber.com/events/details/women-s-health-seminar-10-17-2013-437
END:VEVENT

END:VCALENDAR
