BEGIN:VCALENDAR
VERSION:2.0
PRODID:-//ChamberMaster//Event Calendar 2.0//EN
METHOD:PUBLISH
X-PUBLISHED-TTL:P3D
REFRESH-INTERVAL:P3D
CALSCALE:GREGORIAN
BEGIN:VEVENT
DTSTART:20231117T010000Z
DTEND:20231117T030000Z
X-MICROSOFT-CDO-ALLDAYEVENT:FALSE
SUMMARY:Women's Council Fall Mixer
DESCRIPTION:Join us for the Chino Valley Women's Council Fall Mixer!\n\n\n\nThis event will feature a Workshop hosted by Kavita Bhatia of Acreage Real Estate who will be speaking on Elevating Your Pitch! This will be followed by a Friendsgiving Potluck and Networking!\n\n\n\n**Please let us know what food item you will be bringing when you register!**
X-ALT-DESC;FMTTYPE=text/html:<span style="font-family:verdana\;"><span style="font-size:14px\;">Join us for the Chino Valley Women&#39\;s Council Fall Mixer!<br />\n<br />\nThis event will feature a Workshop hosted by Kavita Bhatia of Acreage Real Estate who will be speaking on <em>Elevating Your Pitch</em>! This will be followed by a Friendsgiving Potluck and Networking!<br />\n<br />\n<strong>**Please let us know what food item you will be bringing when you register!**</strong></span></span>
LOCATION:Chamber Office 13150 7th St. Chino\, CA 91710
UID:e.1511.6089
SEQUENCE:3
DTSTAMP:20260420T211454Z
URL:https://business.chinovalleychamber.com/events/details/women-s-council-fall-mixer-6089
END:VEVENT

END:VCALENDAR
