BEGIN:VCALENDAR
VERSION:2.0
PRODID:-//ChamberMaster//Event Calendar 2.0//EN
METHOD:PUBLISH
X-PUBLISHED-TTL:P3D
REFRESH-INTERVAL:P3D
CALSCALE:GREGORIAN
BEGIN:VEVENT
DTSTART:20130716T180000Z
DTEND:20130716T220000Z
X-MICROSOFT-CDO-ALLDAYEVENT:FALSE
SUMMARY:Where's Lunch Tuesday
DESCRIPTION:Where's Lunch Tuesday
X-ALT-DESC;FMTTYPE=text/html:Where&#39\;s Lunch Tuesday
LOCATION:Sandra's Mexican Restaurant ~ 15% 14670 Pipeline Ave.\, Chino Hills
UID:e.1511.376
SEQUENCE:3
DTSTAMP:20260422T011543Z
URL:https://business.chinovalleychamber.com/events/details/where-s-lunch-tuesday-07-16-2013-376
END:VEVENT

END:VCALENDAR
