BEGIN:VCALENDAR
VERSION:2.0
PRODID:-//ChamberMaster//Event Calendar 2.0//EN
METHOD:PUBLISH
X-PUBLISHED-TTL:P3D
REFRESH-INTERVAL:P3D
CALSCALE:GREGORIAN
BEGIN:VEVENT
DTSTART:20130625T180000Z
DTEND:20130625T220000Z
X-MICROSOFT-CDO-ALLDAYEVENT:FALSE
SUMMARY:Where's Lunch Tuesday
DESCRIPTION:Where's Lunch Tuesday
X-ALT-DESC;FMTTYPE=text/html:Where&#39\;s Lunch Tuesday
LOCATION:Red Robin ~ 15% 3903 Grand Ave.\, Chino
UID:e.1511.330
SEQUENCE:3
DTSTAMP:20260422T024702Z
URL:https://business.chinovalleychamber.com/events/details/where-s-lunch-tuesday-06-25-2013-330
END:VEVENT

END:VCALENDAR
