BEGIN:VCALENDAR
VERSION:2.0
PRODID:-//ChamberMaster//Event Calendar 2.0//EN
METHOD:PUBLISH
X-PUBLISHED-TTL:P3D
REFRESH-INTERVAL:P3D
CALSCALE:GREGORIAN
BEGIN:VEVENT
DTSTART:20130618T180000Z
DTEND:20130618T220000Z
X-MICROSOFT-CDO-ALLDAYEVENT:FALSE
SUMMARY:Where's Lunch Tuesday
DESCRIPTION:Where's Lunch Tuesday?\n\nWatch Your Email for a Coupon\n\nShare the Coupon with Your Employees!
X-ALT-DESC;FMTTYPE=text/html:<span style="color: rgb(255\, 0\, 0)\;"><span style="font-size: 20px\;"><strong>Where&#39\;s Lunch Tuesday</strong></span></span><strong><span style="color: rgb(255\, 0\, 0)\;"><span style="font-size: 20px\;">?</span></span><br />\n<span style="font-size: 16px\;"><em>Watch Your Email for a Coupon<br />\nShare the Coupon with Your Employees!</em></span></strong>
LOCATION:Johnny Carinos 3801 Grand Ave.\, Chino
UID:e.1511.331
SEQUENCE:3
DTSTAMP:20260422T024632Z
URL:https://business.chinovalleychamber.com/events/details/where-s-lunch-tuesday-06-18-2013-331
END:VEVENT

END:VCALENDAR
