BEGIN:VCALENDAR
VERSION:2.0
PRODID:-//ChamberMaster//Event Calendar 2.0//EN
METHOD:PUBLISH
X-PUBLISHED-TTL:P3D
REFRESH-INTERVAL:P3D
CALSCALE:GREGORIAN
BEGIN:VEVENT
DTSTART:20130611T180000Z
DTEND:20130611T220000Z
X-MICROSOFT-CDO-ALLDAYEVENT:FALSE
SUMMARY:Where's Lunch Tuesday
DESCRIPTION:Where's Lunch on Tuesday
X-ALT-DESC;FMTTYPE=text/html:Where&#39\;s Lunch on Tuesday
LOCATION:Mountain Mikes's Pizza ~ 15% 7011 Schaefer Ave.\, Chino
UID:e.1511.321
SEQUENCE:3
DTSTAMP:20260422T041703Z
URL:https://business.chinovalleychamber.com/events/details/where-s-lunch-tuesday-06-11-2013-321
END:VEVENT

END:VCALENDAR
