BEGIN:VCALENDAR
VERSION:2.0
PRODID:-//ChamberMaster//Event Calendar 2.0//EN
METHOD:PUBLISH
X-PUBLISHED-TTL:P3D
REFRESH-INTERVAL:P3D
CALSCALE:GREGORIAN
BEGIN:VEVENT
DTSTART:20130528T180000Z
DTEND:20130528T220000Z
X-MICROSOFT-CDO-ALLDAYEVENT:FALSE
SUMMARY:Where's Lunch Tuesday
DESCRIPTION:Where's Lunch Tuesday
X-ALT-DESC;FMTTYPE=text/html:Where&#39\;s Lunch Tuesday
LOCATION:Escabeche 5460 Philadelphia St.\, Chino
UID:e.1511.319
SEQUENCE:3
DTSTAMP:20260422T055516Z
URL:https://business.chinovalleychamber.com/events/details/where-s-lunch-tuesday-05-28-2013-319
END:VEVENT

END:VCALENDAR
