BEGIN:VCALENDAR
VERSION:2.0
PRODID:-//ChamberMaster//Event Calendar 2.0//EN
METHOD:PUBLISH
X-PUBLISHED-TTL:P3D
REFRESH-INTERVAL:P3D
CALSCALE:GREGORIAN
BEGIN:VEVENT
DTSTART:20130521T180000Z
DTEND:20130521T220000Z
X-MICROSOFT-CDO-ALLDAYEVENT:FALSE
SUMMARY:Where's Lunch Tuesday
DESCRIPTION:Where's Lunch Tuesday
X-ALT-DESC;FMTTYPE=text/html:Where&#39\;s Lunch Tuesday
LOCATION:Cannataro's 12345 Mountain Ave.\, Suite K\, Chino
UID:e.1511.316
SEQUENCE:3
DTSTAMP:20260422T042205Z
URL:https://business.chinovalleychamber.com/events/details/where-s-lunch-tuesday-05-21-2013-316
END:VEVENT

END:VCALENDAR
