BEGIN:VCALENDAR
VERSION:2.0
PRODID:-//ChamberMaster//Event Calendar 2.0//EN
METHOD:PUBLISH
X-PUBLISHED-TTL:P3D
REFRESH-INTERVAL:P3D
CALSCALE:GREGORIAN
BEGIN:VEVENT
DTSTART:20130507T163000Z
DTEND:20130507T190000Z
X-MICROSOFT-CDO-ALLDAYEVENT:FALSE
SUMMARY:What's New With Pregnancy and Other Leave Laws
DESCRIPTION:What's New with Pregnancy And Other Leave Laws\n\n\n\nPresented by: The County of San Bernardino\, Workforce Investment Board
X-ALT-DESC;FMTTYPE=text/html:What&#39\;s New with Pregnancy And Other Leave Laws<br />\n<br />\nPresented by: The County of San Bernardino\, Workforce Investment Board
LOCATION:San Bernardino Employment Resource Center 658 E. Brier Drive\, Suite 100\, San Bernardino
UID:e.1511.308
SEQUENCE:3
DTSTAMP:20260422T042501Z
URL:https://business.chinovalleychamber.com/events/details/what-s-new-with-pregnancy-and-other-leave-laws-05-07-2013-308
END:VEVENT

END:VCALENDAR
