BEGIN:VCALENDAR
VERSION:2.0
PRODID:-//ChamberMaster//Event Calendar 2.0//EN
METHOD:PUBLISH
X-PUBLISHED-TTL:P3D
REFRESH-INTERVAL:P3D
CALSCALE:GREGORIAN
BEGIN:VEVENT
DTSTART:20260316T180000Z
DTEND:20260316T190000Z
X-MICROSOFT-CDO-ALLDAYEVENT:FALSE
SUMMARY:Wellbean Cafe Ribbon Cutting Ceremony
DESCRIPTION:Ribbon Cutting Ceremony   Wellbean Cafe\n\nJoin the Chino Valley Chamber of Commerce as we celebrate the grand opening of Wellbean Cafe with an official Ribbon Cutting Ceremony.\n\nWellbean Cafe is bringing a fresh and welcoming dining experience to the Chino community. This event is an opportunity for local leaders\, Chamber members\, and community supporters to come together to celebrate a new business\, connect with fellow professionals\, and show support for a growing local establishment.\n\nGuests will have the opportunity to meet the Wellbean Cafe team\, learn more about their offerings\, and enjoy a brief program followed by the official ribbon cutting.\n\nEvent Details\n\nWellbean Cafe Ribbon Cutting\n\nMonday\, March 16\, 2026\n\n11:00 AM   12:00 PM\n\nLocation:\n\n11756 Central Ave. Suite E\n\nChino\, CA 91710\n\nThe program will begin at 11:00 AM with brief remarks from the Chamber and the Wellbean Cafe team\, followed by the official ribbon cutting and photo opportunity.\n\nCommunity members\, business leaders\, and friends are encouraged to attend and help welcome Wellbean Cafe to the Chino business community.\n\nFor additional information\, please contact the Chino Valley Chamber of Commerce.
X-ALT-DESC;FMTTYPE=text/html:<p data-end="43" data-start="0" style="caret-color: rgb(0\, 0\, 0)\; color: rgb(0\, 0\, 0)\;"><strong data-end="43" data-start="0">Ribbon Cutting Ceremony &ndash\; Wellbean Cafe</strong></p>\n\n<p data-end="183" data-start="45" style="caret-color: rgb(0\, 0\, 0)\; color: rgb(0\, 0\, 0)\;">Join the Chino Valley Chamber of Commerce as we celebrate the grand opening of&nbsp\;<strong data-end="141" data-start="124">Wellbean Cafe</strong>&nbsp\;with an official Ribbon Cutting Ceremony.</p>\n\n<p data-end="497" data-start="185" style="caret-color: rgb(0\, 0\, 0)\; color: rgb(0\, 0\, 0)\;">Wellbean Cafe is bringing a fresh and welcoming dining experience to the Chino community. This event is an opportunity for local leaders\, Chamber members\, and community supporters to come together to celebrate a new business\, connect with fellow professionals\, and show support for a growing local establishment.</p>\n\n<p data-end="664" data-start="499" style="caret-color: rgb(0\, 0\, 0)\; color: rgb(0\, 0\, 0)\;">Guests will have the opportunity to meet the Wellbean Cafe team\, learn more about their offerings\, and enjoy a brief program followed by the official ribbon cutting.</p>\n\n<p data-end="763" data-start="666" style="caret-color: rgb(0\, 0\, 0)\; color: rgb(0\, 0\, 0)\;"><strong data-end="683" data-start="666">Event Details</strong><br data-end="686" data-start="683" />\nWellbean Cafe Ribbon Cutting<br data-end="717" data-start="714" />\nMonday\, March 16\, 2026<br data-end="742" data-start="739" />\n11:00 AM &ndash\; 12:00 PM</p>\n\n<p data-end="823" data-start="765" style="caret-color: rgb(0\, 0\, 0)\; color: rgb(0\, 0\, 0)\;">Location:<br data-end="777" data-start="774" />\n11756 Central Ave. Suite E<br data-end="806" data-start="803" />\nChino\, CA 91710</p>\n\n<p data-end="995" data-start="825" style="caret-color: rgb(0\, 0\, 0)\; color: rgb(0\, 0\, 0)\;">The program will begin at 11:00 AM with brief remarks from the Chamber and the Wellbean Cafe team\, followed by the official ribbon cutting and photo opportunity.</p>\n\n<p data-end="1134" data-start="997" style="caret-color: rgb(0\, 0\, 0)\; color: rgb(0\, 0\, 0)\;">Community members\, business leaders\, and friends are encouraged to attend and help welcome Wellbean Cafe to the Chino business community.</p>\n\n<p data-end="1216" data-is-last-node="" data-is-only-node="" data-start="1136" style="caret-color: rgb(0\, 0\, 0)\; color: rgb(0\, 0\, 0)\;">For additional information\, please contact the Chino Valley Chamber of Commerce.</p>\n
LOCATION:Wellbean Cafe is located at 11756 Central Ave.\, Suite E in Chino.
UID:e.1511.8251
SEQUENCE:3
DTSTAMP:20260422T192354Z
URL:https://business.chinovalleychamber.com/events/details/wellbean-cafe-ribbon-cutting-ceremony-8251
END:VEVENT

END:VCALENDAR
