BEGIN:VCALENDAR
VERSION:2.0
PRODID:-//ChamberMaster//Event Calendar 2.0//EN
METHOD:PUBLISH
X-PUBLISHED-TTL:P3D
REFRESH-INTERVAL:P3D
CALSCALE:GREGORIAN
BEGIN:VEVENT
DTSTART:20130212T020000Z
DTEND:20130212T030000Z
X-MICROSOFT-CDO-ALLDAYEVENT:FALSE
SUMMARY:Voter's Forum Chino Hills Special Election
DESCRIPTION:Voter's Forum\, Special Election Chino Hills
X-ALT-DESC;FMTTYPE=text/html:Voter&#39\;s Forum\, Special Election Chino Hills
LOCATION:Chino Hills City Council Chambers 14000 City Center Drive Chino Hills\, CA 91709
UID:e.1511.11
SEQUENCE:3
DTSTAMP:20260422T085304Z
URL:https://business.chinovalleychamber.com/events/details/voter-s-forum-chino-hills-special-election-02-11-2013-11
END:VEVENT

END:VCALENDAR
