BEGIN:VCALENDAR
VERSION:2.0
PRODID:-//ChamberMaster//Event Calendar 2.0//EN
METHOD:PUBLISH
X-PUBLISHED-TTL:P3D
REFRESH-INTERVAL:P3D
CALSCALE:GREGORIAN
BEGIN:VEVENT
DTSTART:20260107T154500Z
DTEND:20260107T170000Z
X-MICROSOFT-CDO-ALLDAYEVENT:FALSE
SUMMARY:Virtual Business @ Breakfast - Looking Ahead to an Exciting Year at the Chamber
DESCRIPTION:Virtual Business @ Breakfast -Looking Ahead to an Exciting Year at the Chamber\n\nTopic: What To Expect From The Chamber in 2026\n\nDate/Time: Wednesday\, January 7\, 2026 | 7:45 AM   9:00 AM\n\nSpeaker: Zeb Welborn- CEO/President of Chino Valley Chamber of Commerce\n\nLocation: Virtual\n\nhis fast-paced\, virtual event is designed to help you make meaningful connections while gaining insight into what lies ahead for your business in 2026. We will highlight upcoming opportunities\, programs\, and initiatives that are being built to support business growth\, strengthen relationships\, and help you stay engaged with the Chino Valley business community.\n\nWhat you can expect:\n\n\n	\n	Timely updates focused on opportunities for your business in 2026\n	\n	\n	Introductions and networking with local business leaders\n	\n	\n	The opportunity to share your business through 30-second commercials or breakout rooms\n	\n	\n	Success stories from members doing business together\n	\n	\n	A look ahead at upcoming Chamber events and ways to get involved\n	\n\n\nThis is an efficient\, high-value way to invest one hour into your business\, your network\, and the year ahead.\n\nParticipation\n\n\n	\n	Free for Chamber Members & First-Time Guests\n	\n	\n	$25 for Non-Members
X-ALT-DESC;FMTTYPE=text/html:<h1 data-end="124" data-start="100" style="caret-color: rgb(0\, 0\, 0)\; color: rgb(0\, 0\, 0)\;">Virtual Business @ Breakfast -Looking Ahead to an Exciting Year at the Chamber</h1>\n\n<p data-end="314" data-start="125" style="caret-color: rgb(0\, 0\, 0)\; color: rgb(0\, 0\, 0)\;"><strong data-end="166" data-start="125">Topic: What To Expect From The Chamber in 2026</strong><br data-end="169" data-start="166" />\n<strong data-end="183" data-start="169">Date/Time:</strong> Wednesday\, January 7\, 2026&nbsp\;| 7:45 AM &ndash\; 9:00 AM<br data-end="235" data-start="232" />\n<strong data-end="247" data-start="235">Speaker:</strong>&nbsp\;Zeb&nbsp\;Welborn- CEO/President of Chino Valley Chamber of Commerce<br data-end="295" data-start="292" />\n<strong data-end="308" data-start="295">Location:</strong>&nbsp\;Virtual</p>\n\n<p class="x_gmail-isSelectedEnd" data-olk-copy-source="MessageBody" style="font-family: &quot\;Segoe UI&quot\;\, &quot\;Segoe UI Web (West European)&quot\;\, -apple-system\, BlinkMacSystemFont\, Roboto\, &quot\;Helvetica Neue&quot\;\, sans-serif\; font-size: 15px\; color: rgb(0\, 0\, 0)\;">his fast-paced\, virtual event is designed to help you make meaningful connections while gaining insight into what lies ahead for<span class="x_gmail-Apple-converted-space" style="border: 0px\; font: inherit\; margin: 0px\; padding: 0px\; vertical-align: baseline\; color: inherit\;">&nbsp\;</span><strong>your business</strong><span class="x_gmail-Apple-converted-space" style="border: 0px\; font: inherit\; margin: 0px\; padding: 0px\; vertical-align: baseline\; color: inherit\;">&nbsp\;</span>in 2026. We will highlight upcoming opportunities\, programs\, and initiatives that are being built to support business growth\, strengthen relationships\, and help you stay engaged with the Chino Valley business community.</p>\n\n<p class="x_gmail-isSelectedEnd" style="font-family: &quot\;Segoe UI&quot\;\, &quot\;Segoe UI Web (West European)&quot\;\, -apple-system\, BlinkMacSystemFont\, Roboto\, &quot\;Helvetica Neue&quot\;\, sans-serif\; font-size: 15px\; color: rgb(0\, 0\, 0)\;">What you can expect:</p>\n\n<ul style="font-family: &quot\;Segoe UI&quot\;\, &quot\;Segoe UI Web (West European)&quot\;\, -apple-system\, BlinkMacSystemFont\, Roboto\, &quot\;Helvetica Neue&quot\;\, sans-serif\; font-size: 15px\; color: rgb(0\, 0\, 0)\;">\n	<li>\n	<p class="x_gmail-isSelectedEnd">Timely updates focused on opportunities for your business in 2026</p>\n	</li>\n	<li>\n	<p class="x_gmail-isSelectedEnd">Introductions and networking with local business leaders</p>\n	</li>\n	<li>\n	<p class="x_gmail-isSelectedEnd">The opportunity to share your business through 30-second commercials or breakout rooms</p>\n	</li>\n	<li>\n	<p class="x_gmail-isSelectedEnd">Success stories from members doing business together</p>\n	</li>\n	<li>\n	<p class="x_gmail-isSelectedEnd">A look ahead at upcoming Chamber events and ways to get involved</p>\n	</li>\n</ul>\n\n<p class="x_gmail-isSelectedEnd" style="font-family: &quot\;Segoe UI&quot\;\, &quot\;Segoe UI Web (West European)&quot\;\, -apple-system\, BlinkMacSystemFont\, Roboto\, &quot\;Helvetica Neue&quot\;\, sans-serif\; font-size: 15px\; color: rgb(0\, 0\, 0)\;">This is an efficient\, high-value way to invest one hour into your business\, your network\, and the year ahead.</p>\n\n<p data-end="1301" data-start="1282" style="caret-color: rgb(0\, 0\, 0)\; color: rgb(0\, 0\, 0)\;"><strong data-end="1299" data-start="1282">Participation</strong></p>\n\n<ul data-end="1374" data-start="1302" style="caret-color: rgb(0\, 0\, 0)\; color: rgb(0\, 0\, 0)\;">\n	<li data-end="1350" data-start="1302">\n	<p data-end="1350" data-start="1304">Free for Chamber Members &amp\; First-Time Guests</p>\n	</li>\n	<li data-end="1374" data-start="1351">\n	<p data-end="1374" data-start="1353">$25 for Non-Members</p>\n	</li>\n</ul>\n\n<div>&nbsp\;</div>\n
LOCATION:Zoom https://zoom.us/j/97329149738
UID:e.1511.8228
SEQUENCE:3
DTSTAMP:20260422T221349Z
URL:https://business.chinovalleychamber.com/events/details/virtual-business-breakfast-looking-ahead-to-an-exciting-year-at-the-chamber-8228
END:VEVENT

END:VCALENDAR
