BEGIN:VCALENDAR
VERSION:2.0
PRODID:-//ChamberMaster//Event Calendar 2.0//EN
METHOD:PUBLISH
X-PUBLISHED-TTL:P3D
REFRESH-INTERVAL:P3D
CALSCALE:GREGORIAN
BEGIN:VEVENT
DTSTART:20140712T010000Z
DTEND:20140714T030000Z
X-MICROSOFT-CDO-ALLDAYEVENT:FALSE
SUMMARY:Vacation Bible School Fun Lab
DESCRIPTION:Please Join our Vacation Bible School\n\nAge 4-12 years old Activities: songs\, science experiments\, Bible stories\, fun games and snacks
X-ALT-DESC;FMTTYPE=text/html:Please Join our Vacation Bible School<br />\nAge 4-12 years old Activities: songs\, science experiments\, Bible stories\, fun games and snacks
LOCATION:Chino Valley Chinese SDA Church 4136 Riverside Drive\, Chino CA 91710
UID:e.1511.596
SEQUENCE:3
DTSTAMP:20260421T081926Z
URL:https://business.chinovalleychamber.com/events/details/vacation-bible-school-fun-lab-07-11-2014-596
END:VEVENT

END:VCALENDAR
