BEGIN:VCALENDAR
VERSION:2.0
PRODID:-//ChamberMaster//Event Calendar 2.0//EN
METHOD:PUBLISH
X-PUBLISHED-TTL:P3D
REFRESH-INTERVAL:P3D
CALSCALE:GREGORIAN
BEGIN:VEVENT
DTSTART:20131024T010000Z
DTEND:20131024T030000Z
X-MICROSOFT-CDO-ALLDAYEVENT:FALSE
SUMMARY:Urgent - ObamaCare is here!
DESCRIPTION:ObamaCare is here!\n\n\n\nAre you going to pay the penalties OR will you take advantage of the tax credits?\n\n\n\nWhat you don't know can seriously affect your family's health care.\n\n\n\nHealth Care Reform affects everyone in this country. This seminar will help you understand and comply.\n\n\n\nSpeaker & Topic\n\nAnson McDaniel\n\nCertified Health Care Reform Specialist\n\n\n\nLearn the basics of the Health Care Reform Law\, Covered California\, tax credits\, subsidies\, how to enroll... and more!
X-ALT-DESC;FMTTYPE=text/html:<br />\n<span style="font-size:18px\;"><span style="font-family:arial\;"><strong>ObamaCare is here!</strong></span></span><br />\n<br />\n<span style="font-size:14px\;"><span style="font-family:arial\;"><strong><span style="font-size:16px\;">Are you going to pay the penalties OR will you take advantage of the tax credits?<br />\n<br />\n<span style="font-size:14px\;">What you don&#39\;t know can seriously affect your family&#39\;s health care.</span></span><br />\n<br />\nHealth Care Reform affects everyone in this country. This seminar will help you understand and comply.</strong></span><br />\n<br />\n<strong style="font-family: arial\; font-size: 14.399999618530273px\;">Speaker &amp\; Topic</strong><br />\n<strong style="font-family: arial\; font-size: 14.399999618530273px\;">Anson&nbsp\;McDaniel<br />\nCertified Health Care Reform Specialist<br />\n<br />\n<span style="color:#b22222\;">Learn the basics of the Health Care Reform Law\, Covered California\, tax credits\, subsidies\, how to enroll... and more!</span></strong></span>
LOCATION:Loving Savior of the Hills 14816 Peyton Dr.\, Chino Hills (Between Chino Hills Pkwy & Morningfield Dr.)
UID:e.1511.452
SEQUENCE:3
DTSTAMP:20260421T210353Z
URL:https://business.chinovalleychamber.com/events/details/urgent-obamacare-is-here-10-23-2013-452
END:VEVENT

END:VCALENDAR
