BEGIN:VCALENDAR
VERSION:2.0
PRODID:-//ChamberMaster//Event Calendar 2.0//EN
METHOD:PUBLISH
X-PUBLISHED-TTL:P3D
REFRESH-INTERVAL:P3D
CALSCALE:GREGORIAN
BEGIN:VEVENT
DTSTART:20131123T030000Z
DTEND:20131123T050000Z
X-MICROSOFT-CDO-ALLDAYEVENT:FALSE
SUMMARY:The Shoppes at Chino Hills - 6th Annual Tree Lighting & Santa Arrival
DESCRIPTION:Snowflakes in the Air\, Carols Everywhere\n\nDELIGHT IN THE MAGIC OF THE SEASON\n\nHoliday fun for the entire family - on The Promenade\n\n\n\n6th Annual Tree Lighting & Santa Arrival\n\n\n\nThe first 2\,000 guests will receive a complimentary Santa hat and Go2Holiday deals from Shoppes merchants\, while enjoying holiday music and giveaways by KOLA-FM between 6 and 7 p.m.
X-ALT-DESC;FMTTYPE=text/html:<span style="font-size:11px\;"><span style="font-size:12px\;"><span style="font-family:arial\;"><strong>Snowflakes in the Air\, Carols Everywhere</strong></span></span><br />\n<span style="font-size:12px\;"><span style="font-size:14px\;"><span style="color:#008000\;"><span style="font-family:tahoma\;"><strong>DELIGHT IN THE MAGIC OF THE SEASON</strong></span></span></span><br />\n<strong>Holiday fun for the entire family - on The Promenade</strong><br />\n<br />\n<span style="font-size:14px\;"><span style="color:#ff0000\;"><strong>6th Annual Tree Lighting &amp\; Santa Arrival</strong></span></span><br />\n<br />\n<strong>The first 2\,000 guests will receive a complimentary Santa hat and Go2Holiday deals from Shoppes merchants\, while enjoying holiday music and giveaways by KOLA-FM between 6 and 7 p.m.</strong></span></span><br />\n<br />\n
LOCATION:The Shoppes at Chino Hills 13920 City Center Dr.\, Suite 200 Chino Hills\, CA 91709
UID:e.1511.471
SEQUENCE:3
DTSTAMP:20260421T194102Z
URL:https://business.chinovalleychamber.com/events/details/the-shoppes-at-chino-hills-6th-annual-tree-lighting-santa-arrival-11-22-2013-471
END:VEVENT

END:VCALENDAR
