BEGIN:VCALENDAR
VERSION:2.0
PRODID:-//ChamberMaster//Event Calendar 2.0//EN
METHOD:PUBLISH
X-PUBLISHED-TTL:P3D
REFRESH-INTERVAL:P3D
CALSCALE:GREGORIAN
BEGIN:VEVENT
DTSTART;VALUE=DATE:20131206
DTEND;VALUE=DATE:20131207
TRANSP:TRANSPARENT
X-MICROSOFT-CDO-ALLDAYEVENT:TRUE
SUMMARY:"THE OWNERS ARE AWAY PARTY!"
DESCRIPTION:OWNERS ARE AWAY PARTY!!\n\nDJ\, FOOD\, CRAFT COCKTAILS\, CRAFT BEER
X-ALT-DESC;FMTTYPE=text/html:OWNERS ARE AWAY PARTY!!<br />\nDJ\, FOOD\, CRAFT COCKTAILS\, CRAFT BEER<br type="_moz" />\n
LOCATION:THE PUB AT CHINO HILLS\, 5771 PINE AVE\, CHINO HILLS\, CA
UID:e.1511.478
SEQUENCE:3
DTSTAMP:20260421T182210Z
URL:https://business.chinovalleychamber.com/events/details/the-owners-are-away-party-12-06-2013-478
END:VEVENT

END:VCALENDAR
