BEGIN:VCALENDAR
VERSION:2.0
PRODID:-//ChamberMaster//Event Calendar 2.0//EN
METHOD:PUBLISH
X-PUBLISHED-TTL:P3D
REFRESH-INTERVAL:P3D
CALSCALE:GREGORIAN
BEGIN:VEVENT
DTSTART:20140322T150000Z
DTEND:20140322T220000Z
X-MICROSOFT-CDO-ALLDAYEVENT:FALSE
SUMMARY:The Kiwanis Club of Chino and City of Chino Presents its 12th Annual Corn Feed Run - Car Show & Cruise
DESCRIPTION:A Car Show for Charity  \n\n\n\n12th Annual Corn Feed Run Car Show & Cruise\, presented by Kiwanis Club of Chino and City of Chino. \n\n\n\nThe show is located downtown Chino at City Hall\, 13220 Central Ave\, Chino 91710\, $20 entrant fee\, $25 after March 8\, includes tee shirt for all entrants\, spectators admitted free\, 430 vehicles last year\, open to all  pre '72 cars\, all working show trucks and all motorcycles\, 13 block cruising from 10:00 am to 1:00 pm\, open header contest\, awesome trophies\, huge raffle\, great food and music. We have a huge display of operating antique engines set up by the WPA. \n\n\n\nAll proceeds go to local youth & senior charities of the Chino Kiwanis.
X-ALT-DESC;FMTTYPE=text/html:<br />\n<strong>A Car Show for Charity </strong>&nbsp\;<br />\n<br />\n<span style="font-size:12px\;"><strong><span style="color:#b22222\;"><span style="font-size:14px\;">12th Annual Corn Feed Run Car Show &amp\; Cruise\, presented by Kiwanis Club of Chino and City of Chino.&nbsp\;</span></span></strong><br />\n<br />\nThe show is located downtown Chino at City Hall\, 13220 Central Ave\, Chino 91710\, $20 entrant fee\, $25 after March 8\, includes tee shirt for all entrants\,&nbsp\;spectators admitted free\, 430 vehicles last year\, open to all&nbsp\; pre &lsquo\;72 cars\, all working show trucks and all motorcycles\,&nbsp\;13 block cruising from 10:00 am to 1:00 pm\, open header contest\, awesome trophies\, huge raffle\, great food and music. We have a huge display of operating antique engines set up by the WPA.&nbsp\;<br />\n<br />\n<strong><span style="color:#0099cc\;">All proceeds go to local youth &amp\; senior charities of the Chino Kiwanis.&nbsp\;</span><br />\n&nbsp\;</strong></span><br />\n
LOCATION:Chino City Hall (Downtown) 13220 Central Ave.\, Chino
UID:e.1511.485
SEQUENCE:3
DTSTAMP:20260421T140511Z
URL:https://business.chinovalleychamber.com/events/details/the-kiwanis-club-of-chino-and-city-of-chino-presents-its-12th-annual-corn-feed-run-car-show-cruise-03-22-2014-485
END:VEVENT

END:VCALENDAR
