BEGIN:VCALENDAR
VERSION:2.0
PRODID:-//ChamberMaster//Event Calendar 2.0//EN
METHOD:PUBLISH
X-PUBLISHED-TTL:P3D
REFRESH-INTERVAL:P3D
CALSCALE:GREGORIAN
BEGIN:VEVENT
DTSTART:20130704T210000Z
DTEND:20130708T060000Z
X-MICROSOFT-CDO-ALLDAYEVENT:FALSE
SUMMARY:The Great American 4th of July Festival
DESCRIPTION:Entertainment stage with local & internationally known artists\n\n20 + carnival rides\n\nMidway\n\nHelicopter and airplane rides\n\nFood court\, arts and craft\, novelty booths\n\nBeer Garden                                                                        \n\nFamous movie car show & antique aircraft display\n\n*** NO FIREWORK SHOW ***
X-ALT-DESC;FMTTYPE=text/html:Entertainment stage with local &amp\; internationally known artists<br />\n20 + carnival rides<br />\nMidway<br />\nHelicopter and airplane rides<br />\nFood court\, arts and craft\, novelty booths<br />\nBeer Garden&nbsp\;&nbsp\;&nbsp\;&nbsp\;&nbsp\;&nbsp\;&nbsp\;&nbsp\;&nbsp\;&nbsp\;&nbsp\;&nbsp\;&nbsp\;&nbsp\;&nbsp\;&nbsp\;&nbsp\;&nbsp\;&nbsp\;&nbsp\;&nbsp\;&nbsp\;&nbsp\;&nbsp\;&nbsp\;&nbsp\;&nbsp\;&nbsp\;&nbsp\;&nbsp\;&nbsp\;&nbsp\;&nbsp\;&nbsp\;&nbsp\;&nbsp\;&nbsp\;&nbsp\;&nbsp\;&nbsp\;&nbsp\;&nbsp\;&nbsp\;&nbsp\;&nbsp\;&nbsp\;&nbsp\;&nbsp\;&nbsp\;&nbsp\;&nbsp\;&nbsp\;&nbsp\;&nbsp\;&nbsp\;&nbsp\;&nbsp\;&nbsp\;&nbsp\;&nbsp\;&nbsp\;&nbsp\;&nbsp\;&nbsp\;&nbsp\;&nbsp\;&nbsp\;&nbsp\;&nbsp\;&nbsp\;&nbsp\;&nbsp\;<br />\nFamous movie car show &amp\; antique aircraft display<br />\n*** NO FIREWORK SHOW ***&nbsp\; 
LOCATION:Chino Airport Corner of Euclid & Merrill Ave.
UID:e.1511.351
SEQUENCE:3
DTSTAMP:20260422T011946Z
URL:https://business.chinovalleychamber.com/events/details/the-great-american-4th-of-july-festival-07-04-2013-351
END:VEVENT

END:VCALENDAR
