BEGIN:VCALENDAR
VERSION:2.0
PRODID:-//ChamberMaster//Event Calendar 2.0//EN
METHOD:PUBLISH
X-PUBLISHED-TTL:P3D
REFRESH-INTERVAL:P3D
CALSCALE:GREGORIAN
BEGIN:VEVENT
DTSTART:20130829T014500Z
DTEND:20130829T031500Z
X-MICROSOFT-CDO-ALLDAYEVENT:FALSE
SUMMARY:The City of Chino Hills Presents its Concerts in the Park
DESCRIPTION:Featuring: Led Zepagain\, a Tribute to Led Zeppelin\n\n\n\nBring your Lawn Chairs and Blankets!\n\nConcessions will be Available Onsite
X-ALT-DESC;FMTTYPE=text/html:Featuring: Led Zepagain\, a Tribute to Led Zeppelin<br />\n<br />\nBring your Lawn Chairs and Blankets!<br />\nConcessions will be Available Onsite
LOCATION:Veterans Park 14877 Eucalyptus Ave.\, Chino Hills
UID:e.1511.361
SEQUENCE:3
DTSTAMP:20260422T011915Z
URL:https://business.chinovalleychamber.com/events/details/the-city-of-chino-hills-presents-its-concerts-in-the-park-08-28-2013-361
END:VEVENT

END:VCALENDAR
