BEGIN:VCALENDAR
VERSION:2.0
PRODID:-//ChamberMaster//Event Calendar 2.0//EN
METHOD:PUBLISH
X-PUBLISHED-TTL:P3D
REFRESH-INTERVAL:P3D
CALSCALE:GREGORIAN
BEGIN:VEVENT
DTSTART:20141031T230000Z
DTEND:20141101T030000Z
X-MICROSOFT-CDO-ALLDAYEVENT:FALSE
SUMMARY:The City of Chino and Chino Spectrum Marketplace & Towne Center Present: Halloween Spooktacular
DESCRIPTION:City of Chino\, Chino Spectrum Marketplace & Towne Center Present:\n\nHalloween Spooktacular\n\n\n\n Chino Spectrum Marketplace\n\nSpooktacular Carnival will be located in the Food 4 Less parking lot -\n\nGames\, Trunk or Treating\, Giveaways\, Live Music\, Costume Contest\, Art Projects\, Trick or Treating\n\n\n\nChino Spectrum Towne Center\n\nTrick or Treating\n\n\n\nFirst 1\,000 Kids Receive a Free Halloween Bag at Carnival Entrance\n\n\n\nLook for the TRICK OR TREAT sign in windows of participating stores\n\n\n\nClick Here to View Full-Size PDF
X-ALT-DESC;FMTTYPE=text/html:<p><strong>City of Chino\, Chino Spectrum Marketplace &amp\; Towne Center Present:</strong></p>\n\n<p><span style="font-size:16px\;"><strong><span style="color:#ff6600\;">Halloween Spooktacular</span></strong></span><br />\n<br />\n<span style="color:#006699\;"><span style="font-size:16px\;"><strong>&#8203\;</strong></span><strong><span style="font-size: 13.3333330154419px\; line-height: 13.8666658401489px\;">Chino Spectrum Marketplace</span></strong></span><br style="font-size: 13.3333330154419px\; line-height: 13.8666658401489px\;" />\n<strong><span style="color:#ff6600\;">Spooktacular</span><span style="font-size: 13.3333330154419px\; line-height: 13.8666658401489px\;"><span style="color:#ff6600\;">&nbsp\;Carnival</span> will be located in the Food 4 Less parking lot -</span></strong><br style="font-size: 13.3333330154419px\; line-height: 13.8666658401489px\;" />\n<strong><span style="font-size: 13.3333330154419px\; line-height: 13.8666658401489px\;">Games\, Trunk or Treating\, Giveaways\, Live Music\, Costume Contest\, Art Projects\, Trick or Treating</span></strong><br />\n<br />\n<span style="color:#006699\;"><strong><span style="font-size: 13.3333330154419px\; line-height: 13.8666658401489px\;">Chino Spectrum Towne Center</span></strong></span><br style="font-size: 13.3333330154419px\; line-height: 13.8666658401489px\;" />\n<strong><span style="color:#ff6600\;"><span style="font-size: 13.3333330154419px\; line-height: 13.8666658401489px\;">Trick or Treating</span></span></strong><br />\n<br />\n<strong>First 1\,000 Kids Receive a Free Halloween&nbsp\;Bag at Carnival Entrance</strong><br />\n<br />\n<strong>Look for the </strong><span style="color:#ff6600\;"><strong>TRICK OR TREAT</strong></span><strong> sign in windows of participating stores</strong><br />\n<br />\n<a href="http://cloud.chambermaster.com/userfiles/UserFiles/chambers/1511/File/Spooktacular-1.pdf">Click Here to View Full-Size PDF</a></p>\n
LOCATION:Event Locations: Chino Spectrum Marketplace Spooktacular Carnival will be located in the Food 4 Less parking lot Chino Spectrum Towne Center Trick or Treating
UID:e.1511.681
SEQUENCE:3
DTSTAMP:20260421T084249Z
URL:https://business.chinovalleychamber.com/events/details/the-city-of-chino-and-chino-spectrum-marketplace-towne-center-present-halloween-spooktacular-10-31-2014-681
END:VEVENT

END:VCALENDAR
