BEGIN:VCALENDAR
VERSION:2.0
PRODID:-//ChamberMaster//Event Calendar 2.0//EN
METHOD:PUBLISH
X-PUBLISHED-TTL:P3D
REFRESH-INTERVAL:P3D
CALSCALE:GREGORIAN
BEGIN:VEVENT
DTSTART:20140520T003000Z
DTEND:20140520T040000Z
X-MICROSOFT-CDO-ALLDAYEVENT:FALSE
SUMMARY:The Chino Youth Museum Presents Spring Bingo Bash
DESCRIPTION:Chino Youth Museum Presents Spring Bingo Bash\n\n\n	All Proceeds will benefit the Chino Youth Museum
X-ALT-DESC;FMTTYPE=text/html:<br />\n<span style="font-family:tahoma\;"><strong><span style="color:#A52A2A\;"><span style="font-family:comic sans ms\;"><span style="font-size:16px\;">Chino Youth Museum Presents&nbsp\;</span></span></span><span style="font-size:16px\;"><span style="color:#DAA520\;">S<span style="font-family:comic sans ms\;">pring Bingo Bash</span></span></span></strong></span>\n\n<ul>\n	<li><span style="color:#4B0082\;"><span style="font-size:14px\;"><strong>All Proceeds will benefit the Chino Youth Museum</strong></span></span></li>\n</ul>\n
LOCATION:Brinderson Hall (Chino Fair Grounds) 5410 Edison Avenue\, Chino
UID:e.1511.580
SEQUENCE:3
DTSTAMP:20260421T110951Z
URL:https://business.chinovalleychamber.com/events/details/the-chino-youth-museum-presents-spring-bingo-bash-05-19-2014-580
END:VEVENT

END:VCALENDAR
