BEGIN:VCALENDAR
VERSION:2.0
PRODID:-//ChamberMaster//Event Calendar 2.0//EN
METHOD:PUBLISH
X-PUBLISHED-TTL:P3D
REFRESH-INTERVAL:P3D
CALSCALE:GREGORIAN
BEGIN:VEVENT
DTSTART:20131105T013000Z
DTEND:20131105T050000Z
X-MICROSOFT-CDO-ALLDAYEVENT:FALSE
SUMMARY:The Chino Youth Museum Presents FALL BINGO BASH
DESCRIPTION:Chino Youth Museum - Fall Bingo Bash is here!\n\n\n\nJoin us at one of the Chino Youth Museum's biggest fundraising events of the year.\n\n\n\nAs a non-profit organization\, the Chino Youth Museum uses the proceeds from fundraisers to offset the cost of daily operations.\n\n\n\nThis allows the Museum to offer fun programing while keeping the admission prices low and affordable for everyone.
X-ALT-DESC;FMTTYPE=text/html:<br />\n<strong><span style="font-family:comic sans ms\;"><span style="color:#ff8c00\;"><span style="font-size:16px\;"><span style="font-family:verdana\;">Chino Youth Museum - Fall Bingo Bash is here!</span></span></span></span><br />\n<br />\n<span style="color:#8b4513\;"><span style="font-size:14px\;">Join us at one of the Chino Youth Museum&#39\;s biggest fundraising events of the year.<br />\n<br />\nAs a non-profit organization\, the Chino Youth Museum uses the proceeds from fundraisers to offset the cost of daily operations.</span><br />\n<br />\n<span style="font-size:14px\;">This allows the Museum to offer fun programing while keeping the admission prices low and affordable for everyone.</span></span></strong><br />\n<br />\n<br />\n
LOCATION:Brinderson Hall (Chino Fairgrounds) 5410 Edison Avenue\, Chino
UID:e.1511.450
SEQUENCE:3
DTSTAMP:20260421T210226Z
URL:https://business.chinovalleychamber.com/events/details/the-chino-youth-museum-presents-fall-bingo-bash-11-04-2013-450
END:VEVENT

END:VCALENDAR
