BEGIN:VCALENDAR
VERSION:2.0
PRODID:-//ChamberMaster//Event Calendar 2.0//EN
METHOD:PUBLISH
X-PUBLISHED-TTL:P3D
REFRESH-INTERVAL:P3D
CALSCALE:GREGORIAN
BEGIN:VEVENT
DTSTART:20131207T160000Z
DTEND:20131207T180000Z
X-MICROSOFT-CDO-ALLDAYEVENT:FALSE
SUMMARY:The Chino Valley YMCA Presents the Reindeer Romp
DESCRIPTION:Chino Valley YMCA Presents the Reindeer Romp\n\n\n\nA 5 Kilometer Run/Walk\n\nbenefitting the youth programs at the Chino Valley YMCA\n\n\n\nSponsorship Opportunities
X-ALT-DESC;FMTTYPE=text/html:<br />\n<span style="font-size:14px\;"><strong><span style="color:#ff0000\;">Chino Valley YMCA Presents the Reindeer Romp</span></strong></span><br />\n<br />\n<strong><span style="color:#8b4513\;">A 5 Kilometer Run/Walk<br />\nbenefitting the youth programs at the Chino Valley YMCA</span></strong><br />\n<br />\n<strong><span style="color:#008000\;">Sponsorship Opportunities&nbsp\;</span></strong>
LOCATION:Chino Valley YMCA 5665 Edison Ave.\, Chino
UID:e.1511.477
SEQUENCE:3
DTSTAMP:20260421T182250Z
URL:https://business.chinovalleychamber.com/events/details/the-chino-valley-ymca-presents-the-reindeer-romp-12-07-2013-477
END:VEVENT

END:VCALENDAR
