BEGIN:VCALENDAR
VERSION:2.0
PRODID:-//ChamberMaster//Event Calendar 2.0//EN
METHOD:PUBLISH
X-PUBLISHED-TTL:P3D
REFRESH-INTERVAL:P3D
CALSCALE:GREGORIAN
BEGIN:VEVENT
DTSTART:20130712T020000Z
DTEND:20130712T040000Z
X-MICROSOFT-CDO-ALLDAYEVENT:FALSE
SUMMARY:The Chino Kiwanis Club and City of Chino Presents its Summer Concerts Series\, Thursday's July 11 - August 15\, 2013
DESCRIPTION:Featuring: Eclipse\, Performing Classic Rock / Top 40\n\n\n\nBring your Blankets and Chairs and Enjoy an Evening Listening to Music!
X-ALT-DESC;FMTTYPE=text/html:Featuring: Eclipse\, Performing Classic Rock / Top 40<br />\n<br />\nBring your Blankets and Chairs and Enjoy an Evening Listening to Music!
LOCATION:Chino City Hall (on the lawn) 13220 Central Ave.\, Chino
UID:e.1511.350
SEQUENCE:3
DTSTAMP:20260422T012037Z
URL:https://business.chinovalleychamber.com/events/details/the-chino-kiwanis-club-and-city-of-chino-presents-its-summer-concerts-series-thursday-s-july-11-august-15-2013-07-11-2013-350
END:VEVENT

END:VCALENDAR
