BEGIN:VCALENDAR
VERSION:2.0
PRODID:-//ChamberMaster//Event Calendar 2.0//EN
METHOD:PUBLISH
X-PUBLISHED-TTL:P3D
REFRESH-INTERVAL:P3D
CALSCALE:GREGORIAN
BEGIN:VEVENT
DTSTART:20130816T020000Z
DTEND:20130816T040000Z
X-MICROSOFT-CDO-ALLDAYEVENT:FALSE
SUMMARY:The Chino Kiwanis Club and City of Chino Presents its Summer Concerts Series
DESCRIPTION:Featuring: The Long Run - A Tribute to the Eagles\n\n\n\nBring your Blankets and Chairs and Enjoy an Evening Listening to Music!
X-ALT-DESC;FMTTYPE=text/html:Featuring:&nbsp\;The Long Run&nbsp\;-&nbsp\;A Tribute to the Eagles<br />\n<br />\nBring your Blankets and Chairs and Enjoy an Evening Listening to Music!
LOCATION:Chino City Hall (on the lawn) 13220 Central Ave.\, Chino
UID:e.1511.353
SEQUENCE:3
DTSTAMP:20260422T000253Z
URL:https://business.chinovalleychamber.com/events/details/the-chino-kiwanis-club-and-city-of-chino-presents-its-summer-concerts-series-08-15-2013-353
END:VEVENT

END:VCALENDAR
