BEGIN:VCALENDAR
VERSION:2.0
PRODID:-//ChamberMaster//Event Calendar 2.0//EN
METHOD:PUBLISH
X-PUBLISHED-TTL:P3D
REFRESH-INTERVAL:P3D
CALSCALE:GREGORIAN
BEGIN:VEVENT
DTSTART:20130809T020000Z
DTEND:20130809T040000Z
X-MICROSOFT-CDO-ALLDAYEVENT:FALSE
SUMMARY:The Chino Kiwanis Club and City of Chino Presents its Summer Concerts Series
DESCRIPTION:Featuring: Led Zepagain a Tribute to Led Zeppelin\n\n\n\nBring your Blankets and Chairs and Enjoy an Evening Listening to Music!
X-ALT-DESC;FMTTYPE=text/html:Featuring: Led Zepagain a Tribute to Led Zeppelin<br />\n<br />\nBring your Blankets and Chairs and Enjoy an Evening Listening to Music!
LOCATION:Chino City Hall (on the lawn) 13220 Central Ave.\, Chino
UID:e.1511.355
SEQUENCE:3
DTSTAMP:20260422T012038Z
URL:https://business.chinovalleychamber.com/events/details/the-chino-kiwanis-club-and-city-of-chino-presents-its-summer-concerts-series-08-08-2013-355
END:VEVENT

END:VCALENDAR
