BEGIN:VCALENDAR
VERSION:2.0
PRODID:-//ChamberMaster//Event Calendar 2.0//EN
METHOD:PUBLISH
X-PUBLISHED-TTL:P3D
REFRESH-INTERVAL:P3D
CALSCALE:GREGORIAN
BEGIN:VEVENT
DTSTART:20130719T020000Z
DTEND:20130719T040000Z
X-MICROSOFT-CDO-ALLDAYEVENT:FALSE
SUMMARY:The Chino Kiwanis Club and City of Chino Presents Its Summer Concert Series
DESCRIPTION:Featuring: Kenny Cetera's Chicago Experience\n\n\n\nBring Your Blankets and Chairs and Enjoy an Evening Listening to Music!
X-ALT-DESC;FMTTYPE=text/html:Featuring: Kenny Cetera&#39\;s Chicago Experience<br />\n<br />\nBring Your Blankets and Chairs and Enjoy an Evening Listening to Music!<br />\n<br />\n
LOCATION:Chino City Hall (on the lawn) 13220 Central Ave.\, Chino
UID:e.1511.358
SEQUENCE:3
DTSTAMP:20260422T011951Z
URL:https://business.chinovalleychamber.com/events/details/the-chino-kiwanis-club-and-city-of-chino-presents-its-summer-concert-series-07-18-2013-358
END:VEVENT

END:VCALENDAR
