BEGIN:VCALENDAR
VERSION:2.0
PRODID:-//ChamberMaster//Event Calendar 2.0//EN
METHOD:PUBLISH
X-PUBLISHED-TTL:P3D
REFRESH-INTERVAL:P3D
CALSCALE:GREGORIAN
BEGIN:VEVENT
DTSTART:20140503T170000Z
DTEND:20140503T230000Z
X-MICROSOFT-CDO-ALLDAYEVENT:FALSE
SUMMARY:The Chino Community Center Corporation & City of Chino Presents its 6th Annual Festival of Performing & Visual Arts
DESCRIPTION:6th Annual Festival of Performing & Visual Arts\n\n\n\nA Showcase of local talent\n\n\n	Chino Artisan Demonstrations\n	Local Entertainment\n	Craft & Food Vendors\n	Free to Attend\n\nPerformance schedule to be announced.\n\nBe sure to bring a lawn chair!
X-ALT-DESC;FMTTYPE=text/html:<br />\n<span style="color:#FF0000\;"><strong>6th Annual Festival of Performing &amp\; Visual Arts</strong></span><br />\n<br />\n<span style="color:#800080\;"><strong>A Showcase of local talent</strong></span>\n\n<ul>\n	<li><strong>Chino Artisan Demonstrations</strong></li>\n	<li><strong>Local Entertainment</strong></li>\n	<li><strong>Craft &amp\; Food Vendors</strong></li>\n	<li><strong>Free to Attend</strong></li>\n</ul>\n<span style="color:#8B4513\;"><strong>Performance schedule to be announced.<br />\nBe sure to bring a lawn chair!</strong></span>
LOCATION:City of Chino Civic Center 13220 Central Avenue\, Chino
UID:e.1511.562
SEQUENCE:3
DTSTAMP:20260421T124619Z
URL:https://business.chinovalleychamber.com/events/details/the-chino-community-center-corporation-city-of-chino-presents-its-6th-annual-festival-of-performing-visual-arts-05-03-2014-562
END:VEVENT

END:VCALENDAR
