BEGIN:VCALENDAR
VERSION:2.0
PRODID:-//ChamberMaster//Event Calendar 2.0//EN
METHOD:PUBLISH
X-PUBLISHED-TTL:P3D
REFRESH-INTERVAL:P3D
CALSCALE:GREGORIAN
BEGIN:VEVENT
DTSTART:20130824T150000Z
DTEND:20130824T220000Z
X-MICROSOFT-CDO-ALLDAYEVENT:FALSE
SUMMARY:The 11th Annual Corn Feed Run - Car Show & Cruise Presented by Kiwanis Club of Chino
DESCRIPTION:11th Annual Corn Feed Run - Car Show & Cruise\n\nA Car Show for Charity - All Proceeds Go To Local Charities\n\nOpen To All Pre 1972 Cars\, All Motorcycles and Working Show Trucks\n\nOpen Header Contest 1:00 PM - 2:00 PM\n\n\n\nMusic\, Drawings\, Food\, Trophies - All Day Long!
X-ALT-DESC;FMTTYPE=text/html:<span style="font-size: 14px\;"><span style="font-family: verdana\;"><span style="color: rgb(218\, 165\, 32)\;"><strong>11th Annual Corn Feed Run - Car Show &amp\; Cruise</strong></span></span></span><br />\nA Car Show for Charity - All Proceeds Go To Local Charities<br />\nOpen To All Pre 1972 Cars\, All Motorcycles and Working Show Trucks<br />\nOpen Header Contest 1:00 PM - 2:00 PM<br />\n<br />\n<span style="color: rgb(178\, 34\, 34)\;"><strong>Music\, Drawings\, Food\, Trophies - All Day Long!</strong></span><br />\n<br />\n<br />\n
LOCATION:13220 Central Ave.\, Chino (Participant Parking at Chino City Hall Lawn & Surrounding Area Streets)
UID:e.1511.406
SEQUENCE:3
DTSTAMP:20260421T235748Z
URL:https://business.chinovalleychamber.com/events/details/the-11th-annual-corn-feed-run-car-show-cruise-presented-by-kiwanis-club-of-chino-08-24-2013-406
END:VEVENT

END:VCALENDAR
