BEGIN:VCALENDAR
VERSION:2.0
PRODID:-//ChamberMaster//Event Calendar 2.0//EN
METHOD:PUBLISH
X-PUBLISHED-TTL:P3D
REFRESH-INTERVAL:P3D
CALSCALE:GREGORIAN
BEGIN:VEVENT
DTSTART:20140503T000000Z
DTEND:20140503T030000Z
X-MICROSOFT-CDO-ALLDAYEVENT:FALSE
SUMMARY:Taco Dinner
DESCRIPTION:2 tacos \,rice\, beans\, and soft drink. we are also holding a silent auction. we are looking for food donations and item and service donations. Event is being presented by the Chino Valley Band-Aides that supports all Chino Valley area School Bands. Dinner is being prepared by the Chino Valley Culinary Students.
X-ALT-DESC;FMTTYPE=text/html:2 tacos \,rice\, beans\, and soft drink. we are also holding a silent auction. we are looking for food donations and item and service donations. Event is being presented by the Chino Valley Band-Aides that supports all Chino Valley area School Bands. Dinner is being prepared by the Chino Valley Culinary Students.
LOCATION:Chino Valley High School
UID:e.1511.551
SEQUENCE:3
DTSTAMP:20260421T110249Z
URL:https://business.chinovalleychamber.com/events/details/taco-dinner-05-02-2014-551
END:VEVENT

END:VCALENDAR
