BEGIN:VCALENDAR
VERSION:2.0
PRODID:-//ChamberMaster//Event Calendar 2.0//EN
METHOD:PUBLISH
X-PUBLISHED-TTL:P3D
REFRESH-INTERVAL:P3D
CALSCALE:GREGORIAN
BEGIN:VEVENT
DTSTART:20130518T180000Z
DTEND:20130518T190000Z
X-MICROSOFT-CDO-ALLDAYEVENT:FALSE
SUMMARY:Stay Designated Presents: The Recovery Game
DESCRIPTION:The Recovery Game\, A weekly pick-up basketball game for those in recovery.
X-ALT-DESC;FMTTYPE=text/html:The Recovery Game\, A weekly pick-up basketball game for those in recovery.
LOCATION:Grand Avenue Park\, 1301 Grand Ave.\, Chino Hills
UID:e.1511.325
SEQUENCE:3
DTSTAMP:20260422T042338Z
URL:https://business.chinovalleychamber.com/events/details/stay-designated-presents-the-recovery-game-05-18-2013-325
END:VEVENT

END:VCALENDAR
