BEGIN:VCALENDAR
VERSION:2.0
PRODID:-//ChamberMaster//Event Calendar 2.0//EN
METHOD:PUBLISH
X-PUBLISHED-TTL:P3D
REFRESH-INTERVAL:P3D
CALSCALE:GREGORIAN
BEGIN:VEVENT
DTSTART;VALUE=DATE:20130916
DTEND;VALUE=DATE:20130917
TRANSP:TRANSPARENT
X-MICROSOFT-CDO-ALLDAYEVENT:TRUE
SUMMARY:Stay Designated\, Inc.\, Proudly Presents its:1st Annual Eric A. Singleton Golf Classic
DESCRIPTION:1st Annual Eric A. Singleton Golf Classic\n\nEntry Deadline\, September 5\, 2013\n\n\n\nSign Up Today!
X-ALT-DESC;FMTTYPE=text/html:1st Annual Eric A. Singleton Golf Classic<br />\nEntry Deadline\, September 5\, 2013<br />\n<br />\nSign Up Today!
LOCATION:Vellano Country Club 2441 Vellano Club Dr.\, Chino Hills
UID:e.1511.334
SEQUENCE:3
DTSTAMP:20260421T223247Z
URL:https://business.chinovalleychamber.com/events/details/stay-designated-inc-proudly-presents-its-1st-annual-eric-a-singleton-golf-classic-09-16-2013-334
END:VEVENT

END:VCALENDAR
