BEGIN:VCALENDAR
VERSION:2.0
PRODID:-//ChamberMaster//Event Calendar 2.0//EN
METHOD:PUBLISH
X-PUBLISHED-TTL:P3D
REFRESH-INTERVAL:P3D
CALSCALE:GREGORIAN
BEGIN:VEVENT
DTSTART:20140124T003000Z
DTEND:20140124T020000Z
X-MICROSOFT-CDO-ALLDAYEVENT:FALSE
SUMMARY:State Assemblyman Curt Hagman - Meet and Greet with Restaurant Owners
DESCRIPTION:Restaurant owners throughout the 55th Assembly District are invited to a Meet and Greet with State Assemblyman Curt Hagman.\n\n\n\nAssemblyman Hagman is seeking feedback from local restaurant owners to learn more about issues affecting your business.\n\n\n\nRelated issues include\, but not limited to: Costly Regulations\, Minimum Wage Increase\, Employee Guidelines\, Taxes\, Food Safety and Health Care.
X-ALT-DESC;FMTTYPE=text/html:<span style="font-family:arial\;">Restaurant owners throughout the 55th&nbsp\;Assembly District are invited to a Meet and Greet with State Assemblyman Curt Hagman.<br />\n<br />\nAssemblyman Hagman is seeking feedback from local restaurant owners to learn more about issues affecting your business.<br />\n<br />\nRelated issues include\, but not limited to: Costly Regulations\, Minimum Wage Increase\, Employee Guidelines\, Taxes\, Food Safety and Health Care.</span>
LOCATION:Curt Hagman's District Office 13920 City Center Drive\, Suite 260 Chino Hills\, CA 91709
UID:e.1511.496
SEQUENCE:3
DTSTAMP:20260421T165917Z
URL:https://business.chinovalleychamber.com/events/details/state-assemblyman-curt-hagman-meet-and-greet-with-restaurant-owners-01-23-2014-496
END:VEVENT

END:VCALENDAR
