BEGIN:VCALENDAR
VERSION:2.0
PRODID:-//ChamberMaster//Event Calendar 2.0//EN
METHOD:PUBLISH
X-PUBLISHED-TTL:P3D
REFRESH-INTERVAL:P3D
CALSCALE:GREGORIAN
BEGIN:VEVENT
DTSTART:20140520T230000Z
DTEND:20140521T040000Z
X-MICROSOFT-CDO-ALLDAYEVENT:FALSE
SUMMARY:Soroptimist of Chino Hills/Inland Empire - Fundraiser - Dinner at Cannataro's
DESCRIPTION:Soroptimist International of Chino Hills/Inland Empire will receive 50% of the following menu items ordered from Cannataro's Italian Restaurant on Tuesday May 20th.\n\nAll Dinners include soup or salad\n\n\n\nEat in or to go: 909-590-7960
X-ALT-DESC;FMTTYPE=text/html:<span style="color:#006400\;"><strong>Soroptimist&nbsp\;International of Chino Hills/Inland Empire will receive 50% of the following menu items ordered from Cannataro&#39\;s Italian Restaurant on Tuesday May 20th.</strong></span><br />\n<strong><span style="color:#800000\;">All Dinners include soup or salad<br />\n<br />\nEat in or to go: 909-590-7960</span></strong>
LOCATION:Cannataro's Italian Restaurant 12345 Mountain Ave.\, Chino (Mountain & 60 Fwy)
UID:e.1511.585
SEQUENCE:3
DTSTAMP:20260421T111212Z
URL:https://business.chinovalleychamber.com/events/details/soroptimist-of-chino-hills-inland-empire-fundraiser-dinner-at-cannataro-s-05-20-2014-585
END:VEVENT

END:VCALENDAR
