BEGIN:VCALENDAR
VERSION:2.0
PRODID:-//ChamberMaster//Event Calendar 2.0//EN
METHOD:PUBLISH
X-PUBLISHED-TTL:P3D
REFRESH-INTERVAL:P3D
CALSCALE:GREGORIAN
BEGIN:VEVENT
DTSTART:20140325T230000Z
DTEND:20140326T040000Z
X-MICROSOFT-CDO-ALLDAYEVENT:FALSE
SUMMARY:Soroptimist of Chino Hills/Inland Empire - Fundraiser - Dinner at Cannataro's
DESCRIPTION:Soroptimist International of Chino Hills/Inland Empire will receive 50% of the following menu items listed on this flier when ordered from Cannataro's Tuesday\, March 25th from 4:00 PM - 9:00 PM. \n\n\n\nAll dinners listed on the flier include soup/salads\n\n\n\nEat in or To Go
X-ALT-DESC;FMTTYPE=text/html:<span style="color:#A52A2A\;"><strong>Soroptimist&nbsp\;International of Chino Hills/Inland Empire will receive 50% of the following menu items listed on this flier when ordered from Cannataro&#39\;s Tuesday\, March&nbsp\;25th&nbsp\;from 4:00 PM - 9:00 PM.&nbsp\;</strong></span><br />\n<br />\n<span style="color:#006400\;"><strong>All dinners listed on the flier include soup/salads</strong></span><br />\n<br />\n<strong>Eat in or To Go</strong><br />\n<br />\n<br />\n&nbsp\;
LOCATION:Cannataro's Italian Restaurant 12345 Mountain Ave Chino\, CA 91710
UID:e.1511.546
SEQUENCE:3
DTSTAMP:20260421T140200Z
URL:https://business.chinovalleychamber.com/events/details/soroptimist-of-chino-hills-inland-empire-fundraiser-dinner-at-cannataro-s-03-25-2014-546
END:VEVENT

END:VCALENDAR
