BEGIN:VCALENDAR
VERSION:2.0
PRODID:-//ChamberMaster//Event Calendar 2.0//EN
METHOD:PUBLISH
X-PUBLISHED-TTL:P3D
REFRESH-INTERVAL:P3D
CALSCALE:GREGORIAN
BEGIN:VEVENT
DTSTART:20130302T163000Z
DTEND:20130302T213000Z
X-MICROSOFT-CDO-ALLDAYEVENT:FALSE
SUMMARY:Soroptimist International of the Chino Valley "Stepping Up"
DESCRIPTION:This event offers 6th grade girls the opportunity to make a confident transition into junior high school.
X-ALT-DESC;FMTTYPE=text/html:This event offers 6th grade girls the opportunity to make a confident transition into junior high school. 
LOCATION:Chino Police Department Community Meeting Room 5450 Walnut Ave. Chino\, CA 91710
UID:e.1511.19
SEQUENCE:3
DTSTAMP:20260422T072958Z
URL:https://business.chinovalleychamber.com/events/details/soroptimist-international-of-the-chino-valley-stepping-up-03-02-2013-19
END:VEVENT

END:VCALENDAR
