BEGIN:VCALENDAR
VERSION:2.0
PRODID:-//ChamberMaster//Event Calendar 2.0//EN
METHOD:PUBLISH
X-PUBLISHED-TTL:P3D
REFRESH-INTERVAL:P3D
CALSCALE:GREGORIAN
BEGIN:VEVENT
DTSTART:20130324T070000Z
DTEND:20130325T000000Z
X-MICROSOFT-CDO-ALLDAYEVENT:FALSE
SUMMARY:Soroptimist International of the Chino Valley Presents Chino Brew and Chew
DESCRIPTION:Brew and Chew\, Beer Tasting\, Food and Retail Vendors
X-ALT-DESC;FMTTYPE=text/html:Brew and Chew\, Beer Tasting\, Food and Retail Vendors
LOCATION:Chino Fairgrounds 5410 Edison Ave.\, Chino (corner of Edison and Central)
UID:e.1511.255
SEQUENCE:3
DTSTAMP:20260422T073130Z
URL:https://business.chinovalleychamber.com/events/details/soroptimist-international-of-the-chino-valley-presents-chino-brew-and-chew-03-24-2013-255
END:VEVENT

END:VCALENDAR
