BEGIN:VCALENDAR
VERSION:2.0
PRODID:-//ChamberMaster//Event Calendar 2.0//EN
METHOD:PUBLISH
X-PUBLISHED-TTL:P3D
REFRESH-INTERVAL:P3D
CALSCALE:GREGORIAN
BEGIN:VEVENT
DTSTART:20140301T163000Z
DTEND:20140301T220000Z
X-MICROSOFT-CDO-ALLDAYEVENT:FALSE
SUMMARY:Soroptimist International of the Chino Valley\, Inc.\, Presents the 8th Annual "Steppin Up"
DESCRIPTION:Soroptimist International of the Chino Valley\, Inc.\, Presents the 8th Annual "Steppin Up"\n\n\n\nThis event offers young ladies in the 6th grade the opportunity to make a confident transition into junior high.\n\n\n\nHear exciting speakers who will talk about academics and important school issues\, learn about the latest in fashion and hairstyles. Participate in games\, win prizes\, enjoy lunch and much more.\n\n\n\nPARENTS ARE WELCOME...
X-ALT-DESC;FMTTYPE=text/html:<br />\n<strong><span style="color: rgb(0\, 0\, 205)\;"><span style="font-size:14px\;"><span style="font-family:arial\;">Soroptimist&nbsp\;International of the Chino Valley\, Inc.\, Presents the&nbsp\;8th&nbsp\;Annual &quot\;Steppin&nbsp\;Up&quot\;</span></span></span></strong><br />\n<br />\n<span style="color:#663399\;"><strong>This event offers young ladies in the 6th grade the opportunity to make a confident transition into junior high.</strong></span><br />\n<br />\n<span style="color:#ff66ff\;"><strong>Hear exciting speakers who will talk about academics and important school issues\, learn about the latest in fashion and hairstyles. Participate in games\, win prizes\, enjoy lunch and much more.</strong></span><br />\n<br />\n<span style="color:#0000cd\;"><strong>PARENTS ARE WELCOME...</strong></span>
LOCATION:Chino Hills High School (Multi Purpose Room) 16150 Pomona Rincon Road\, Chino Hills
UID:e.1511.527
SEQUENCE:3
DTSTAMP:20260421T140412Z
URL:https://business.chinovalleychamber.com/events/details/soroptimist-international-of-the-chino-valley-inc-presents-the-8th-annual-steppin-up-03-01-2014-527
END:VEVENT

END:VCALENDAR
