BEGIN:VCALENDAR
VERSION:2.0
PRODID:-//ChamberMaster//Event Calendar 2.0//EN
METHOD:PUBLISH
X-PUBLISHED-TTL:P3D
REFRESH-INTERVAL:P3D
CALSCALE:GREGORIAN
BEGIN:VEVENT
DTSTART:20140330T190000Z
DTEND:20140331T000000Z
X-MICROSOFT-CDO-ALLDAYEVENT:FALSE
SUMMARY:Soroptimist International of the Chino Valley\, Inc.\, Presents its 2nd Annual Brew and Chew
DESCRIPTION:The 2nd Annual Brew & Chew will be held at the Chino Fairgrounds.  \n\n\n\nAttendees will have the chance to taste beers from a large assortment of commercial and home breweries and the opportunity to purchase food from a variety of gourmet food trucks and items from vendors. \n\n\n\nMust be 21 years old and have a picture ID to attend this event.
X-ALT-DESC;FMTTYPE=text/html:<p><strong><span style="color:#cc6600\;"><span style="font-family:arial\;">The 2<sup>nd</sup> Annual Brew &amp\; Chew will be held at the Chino Fairgrounds. &nbsp\;</span></span><br />\n<br />\n<span style="color:#b22222\;"><span style="font-family:arial\;">Attendees will have the chance to taste beers from a large assortment of commercial and home breweries and the opportunity to purchase food from a variety of gourmet food trucks and items from vendors.&nbsp\;</span></span></strong><br />\n<br />\n<strong><span style="font-family: arial\;">Must be 21 years old and have a picture ID to attend this event.</span></strong></p>\n\n<p>&nbsp\;</p>\n
LOCATION:Chino Fairgrounds 5410 Edison Ave.\, Chino (Corner of Central & Edison)
UID:e.1511.364
SEQUENCE:3
DTSTAMP:20260421T140241Z
URL:https://business.chinovalleychamber.com/events/details/soroptimist-international-of-the-chino-valley-inc-presents-its-2nd-annual-brew-and-chew-03-30-2014-364
END:VEVENT

END:VCALENDAR
