BEGIN:VCALENDAR
VERSION:2.0
PRODID:-//ChamberMaster//Event Calendar 2.0//EN
METHOD:PUBLISH
X-PUBLISHED-TTL:P3D
REFRESH-INTERVAL:P3D
CALSCALE:GREGORIAN
BEGIN:VEVENT
DTSTART:20130920T013000Z
DTEND:20130920T030000Z
X-MICROSOFT-CDO-ALLDAYEVENT:FALSE
SUMMARY:Soroptimist International of Chino Hills - Looking for a Way to Impact the World - Look No Further
DESCRIPTION:Soroptimist International of Chino Hills invites you to join us and a guest speaker who will be sharing with you how to help change the lives of many with your time\, talent or treasure.\n\n\n\nDid you know that $20.00 can give one child clean drinking water for 20 years?
X-ALT-DESC;FMTTYPE=text/html:<strong>Soroptimist International of Chino Hills invites you to join us and a guest speaker who will be sharing with you how to help change the lives of many with your time\, talent or treasure.</strong><br />\n<br />\nDid you know that $20.00 can give one child clean drinking water for 20 years?
LOCATION:Chino Hills Library\, Conference Room 14020 City Center Drive\, Chino Hills
UID:e.1511.428
SEQUENCE:3
DTSTAMP:20260421T223532Z
URL:https://business.chinovalleychamber.com/events/details/soroptimist-international-of-chino-hills-looking-for-a-way-to-impact-the-world-look-no-further-09-19-2013-428
END:VEVENT

END:VCALENDAR
