BEGIN:VCALENDAR
VERSION:2.0
PRODID:-//ChamberMaster//Event Calendar 2.0//EN
METHOD:PUBLISH
X-PUBLISHED-TTL:P3D
REFRESH-INTERVAL:P3D
CALSCALE:GREGORIAN
BEGIN:VEVENT
DTSTART:20210401T170000Z
DTEND:20210401T180000Z
X-MICROSOFT-CDO-ALLDAYEVENT:FALSE
SUMMARY:Small Business Webinars - Paycheck Protection Program (PPP) Forgiveness
DESCRIPTION:SBDC - Paycheck Protection Program (PPP) Forgiveness\n\n4/1 @ 10 AM   11 AM\n\nWebinar | No Fee\n\n\n\nPlease register online at:\n\nhttps://santaanadistrictsbdc.ecenterdirect.com/events/7322
X-ALT-DESC;FMTTYPE=text/html:SBDC - Paycheck Protection Program (PPP) Forgiveness<br />\n4/1 @ 10 AM &ndash\; 11 AM<br />\nWebinar | No Fee<br />\n<br />\nPlease register online at:<br />\nhttps://santaanadistrictsbdc.ecenterdirect.com/events/7322
LOCATION:
UID:e.1511.3692
SEQUENCE:3
DTSTAMP:20260419T142503Z
URL:https://business.chinovalleychamber.com/events/details/small-business-webinars-paycheck-protection-program-ppp-forgiveness-3692
END:VEVENT

END:VCALENDAR
