BEGIN:VCALENDAR
VERSION:2.0
PRODID:-//ChamberMaster//Event Calendar 2.0//EN
METHOD:PUBLISH
X-PUBLISHED-TTL:P3D
REFRESH-INTERVAL:P3D
CALSCALE:GREGORIAN
BEGIN:VEVENT
DTSTART:20130905T180000Z
DTEND:20130905T200000Z
X-MICROSOFT-CDO-ALLDAYEVENT:FALSE
SUMMARY:Sizzling September - Dine & Dash Lunch
DESCRIPTION:Dine & Dash Lunch...Make a quick stop through our community and grab a bite to eat!\n\nAccepting Donations to benefit the Alzheimer's Organization
X-ALT-DESC;FMTTYPE=text/html:<strong><span style="color: rgb(218\, 165\, 32)\;">Dine &amp\; Dash Lunch...Make a quick stop through our community and grab a bite to eat!</span></strong><br />\n<span style="color: rgb(139\, 69\, 19)\;">Accepting Donations to benefit the Alzheimer&#39\;s<strong>&nbsp\;</strong>Organization</span><br />\n<br />\n
LOCATION:Pacifica Chino Hills (Senior Living) 6500 Butterfield Ranch Road\, Chino Hills
UID:e.1511.416
SEQUENCE:3
DTSTAMP:20260421T223103Z
URL:https://business.chinovalleychamber.com/events/details/sizzling-september-dine-dash-lunch-09-05-2013-416
END:VEVENT

END:VCALENDAR
