BEGIN:VCALENDAR
VERSION:2.0
PRODID:-//ChamberMaster//Event Calendar 2.0//EN
METHOD:PUBLISH
X-PUBLISHED-TTL:P3D
REFRESH-INTERVAL:P3D
CALSCALE:GREGORIAN
BEGIN:VEVENT
DTSTART:20130509T203000Z
DTEND:20130509T230000Z
X-MICROSOFT-CDO-ALLDAYEVENT:FALSE
SUMMARY:Seminar on Healthcare Reform
DESCRIPTION:Learn the Basics of the Affordable Care Act and How it Affects your Business\n\n\n\nPresented by: The County of San Bernardino\, Workforce Investment Board
X-ALT-DESC;FMTTYPE=text/html:Learn the Basics of the Affordable Care Act and How it Affects your Business<br />\n<br />\nPresented by: The County of San&nbsp\;Bernardino\, Workforce Investment Board
LOCATION:West Valley Employment Resource Center 9650 9th Street\, Suite A Rancho Cucamonga\, 91730
UID:e.1511.304
SEQUENCE:3
DTSTAMP:20260422T042517Z
URL:https://business.chinovalleychamber.com/events/details/seminar-on-healthcare-reform-05-09-2013-304
END:VEVENT

END:VCALENDAR
