BEGIN:VCALENDAR
VERSION:2.0
PRODID:-//ChamberMaster//Event Calendar 2.0//EN
METHOD:PUBLISH
X-PUBLISHED-TTL:P3D
REFRESH-INTERVAL:P3D
CALSCALE:GREGORIAN
BEGIN:VEVENT
DTSTART:20140503T160000Z
DTEND:20140503T200000Z
X-MICROSOFT-CDO-ALLDAYEVENT:FALSE
SUMMARY:SAVE THE DATE! Soroptimist of Chino Hills/Inland Empire Presents: "MOM ROCKS"
DESCRIPTION:Soroptimist International of Chino Hills/Inland Empire Presents: "MOM ROCKS!" \n\nBrunch and Fashion Show - Mother of the Year\, Awards Program \n\n\n\nFor Mother of the Year Applications email: dottymj@yahoo.com
X-ALT-DESC;FMTTYPE=text/html:<br />\n<span style="color:#990066\;"><strong>Soroptimist&nbsp\;International of Chino Hills/Inland Empire Presents:&nbsp\;&quot\;MOM ROCKS!&quot\; </strong></span><br />\n<strong>Brunch and Fashion Show - Mother of the Year\, Awards Program</strong><span style="font-size:12.0pt\;font-family:&quot\;Times New Roman&quot\;\,&quot\;serif&quot\;\;\nmso-fareast-font-family:&quot\;Times New Roman&quot\;\;mso-bidi-font-family:Calibri\;\nmso-ansi-language:EN-US\;mso-fareast-language:EN-US\;mso-bidi-language:AR-SA">&nbsp\;</span><br />\n<br />\n<strong>For Mother of the Year Applications email: dottymj@yahoo.com</strong><br />\n&nbsp\;
LOCATION:Vellano Country Club 2441 Vellano Club Drive\, Chino Hills
UID:e.1511.550
SEQUENCE:3
DTSTAMP:20260421T124314Z
URL:https://business.chinovalleychamber.com/events/details/save-the-date-soroptimist-of-chino-hills-inland-empire-presents-mom-rocks-05-03-2014-550
END:VEVENT

END:VCALENDAR
