BEGIN:VCALENDAR
VERSION:2.0
PRODID:-//ChamberMaster//Event Calendar 2.0//EN
METHOD:PUBLISH
X-PUBLISHED-TTL:P3D
REFRESH-INTERVAL:P3D
CALSCALE:GREGORIAN
BEGIN:VEVENT
DTSTART:20131011T003000Z
DTEND:20131011T023000Z
X-MICROSOFT-CDO-ALLDAYEVENT:FALSE
SUMMARY:Save the Date! Oktoberfest 2013
DESCRIPTION:Pomona Valley Workshop - Oktoberfest is Back - Don't Miss Out On The Fun!\n\n\n\nCome Celebrate with the Chambers of Chino Valley\, Claremont\, Irwindale\, Montclair\, Ontario\, Pomona\, Upland and Chapters of TEAM Referral Network\n\n\n\nIncludes: Beer/Wine Tasting\n\nKnockwurst\, pretzels and other treats\, music and a raffle ticket.\n\n\n\nMust be 21 to sample beer and wine!
X-ALT-DESC;FMTTYPE=text/html:<span style="font-size: 14px\;"><strong><span style="color: rgb(0\, 0\, 205)\;">Pomona Valley Workshop -&nbsp\;Oktoberfest is Back - Don&#39\;t Miss Out On The Fun!</span></strong></span><br />\n<br />\n<strong>Come Celebrate with the Chambers of Chino Valley\, Claremont\, Irwindale\, Montclair\, Ontario\, Pomona\, Upland and Chapters of TEAM Referral Network</strong><br />\n<br />\n<span style="color: rgb(139\, 69\, 19)\;"><strong>Includes: Beer/Wine Tasting<br />\nKnockwurst\, pretzels and other treats\, music and a raffle ticket.</strong></span><br />\n<br />\n<em><strong><span style="color: rgb(255\, 140\, 0)\;">Must be 21 to sample beer and wine!</span></strong></em>
LOCATION:Double Tree by Hilton Claremont 555 West Foothill Blvd Claremont\, CA 91711
UID:e.1511.394
SEQUENCE:3
DTSTAMP:20260421T223230Z
URL:https://business.chinovalleychamber.com/events/details/save-the-date-oktoberfest-2013-10-10-2013-394
END:VEVENT

END:VCALENDAR
